BEGIN:VCALENDAR
VERSION:2.0
PRODID:-//hacksw/handcal//NONSGML v1.0//EN
CALSCALE:GREGORIAN
BEGIN:VEVENT
DTEND:20170404T163000Z
UID: 69e8642986d04
DTSTAMP:20260422T010113Z
LOCATION:Olin Center for Educational Technology
DESCRIPTION:Students interested in an internship through the Upper Mississippi Center for Sustainable Communities are invited to learn about them.\n\nCurrent projects are the Urban Watersheds Project with the City of Rock Island and lead remediation&nbsp\;with the Scott County Health Department.\n
URL;VALUE=URI:http://zzz.augustana.edu/about-us/events/2017/upper-mississippi-center-internships-info
SUMMARY:Upper Mississippi Center internships info
DTSTART:20170404T163000Z
END:VEVENT
END:VCALENDAR
