BEGIN:VCALENDAR
VERSION:2.0
PRODID:-//hacksw/handcal//NONSGML v1.0//EN
CALSCALE:GREGORIAN
BEGIN:VEVENT
DTEND:20170429T190000Z
UID: 69e7f793aaddd
DTSTAMP:20260421T171755Z
LOCATION:PepsiCo Recreation Center
DESCRIPTION:Mental Health Walk Awareness Committee (part of NAMI) will be hosting a walk to help raise awareness&nbsp\;for mental health issues. All money will go to NAMI (The National Alliance on Mental Illness).\n\nThe event will include&nbsp\;food\, prizes\, and&nbsp\;mental health related activities.\n\nDonations are also being accepted on the event's&nbsp\;GoFundMe Page.\n\nContact Kendra Norman\, Zoe Staves\, or Hannah Hart with any questions or concerns regarding the event. More details&nbsp\;can also be found here.\n
URL;VALUE=URI:http://zzz.augustana.edu/about-us/events/2017/mental-health-awareness-walk
SUMMARY:Mental Health Awareness Walk
DTSTART:20170429T190000Z
END:VEVENT
END:VCALENDAR
