BEGIN:VCALENDAR
VERSION:2.0
PRODID:-//hacksw/handcal//NONSGML v1.0//EN
CALSCALE:GREGORIAN
BEGIN:VEVENT
DTEND:20170420T003000Z
UID: 69e560d8386c4
DTSTAMP:20260419T181016Z
LOCATION:Olin Center for Educational Technology
DESCRIPTION:Spanish Club will show the 2010 drama "Amador."\n\nIMDB: "A drama centered on a young woman who takes a summer job caring for a bed-ridden older man\, and the intimate secrets they begin to share with one another."\n
URL;VALUE=URI:http://zzz.augustana.edu/about-us/events/2017/spanish-club-film-amador
SUMMARY:Spanish Club film: "Amador"
DTSTART:20170420T003000Z
END:VEVENT
END:VCALENDAR
