BEGIN:VCALENDAR
VERSION:2.0
PRODID:-//hacksw/handcal//NONSGML v1.0//EN
CALSCALE:GREGORIAN
BEGIN:VEVENT
DTEND:20170422T000000Z
UID: 69e5647a2b571
DTSTAMP:20260419T182546Z
LOCATION:Odell Public Library
DESCRIPTION:Augustana's Dr. Michael Reisner will participate in a conference and panel discussion\,&nbsp\;“Climate Change: Science\, Skepticism\, and Sustainable Development\," for the Whiteside Forum.\n\nHe is an&nbsp\;assistant professor of environmental studies and director of the Upper Mississippi Studies Center at Augustana. His topic will be&nbsp\;“Science and Sustainable Development.”&nbsp\;\n\nOther speakers and panelists include:\n\n• Billy Lynn&nbsp\;– “Environmental Economics and Climate Change Doubt.” Lynn is professor of economics at St. Ambrose University.\n\n• Teresa Cushing&nbsp\;– “Industrial Environmental Stewardship.” Cushing is former enterprise technology manager for Caterpillar Inc. and is now senior project manager for Highlander Innovation.\n\n• Jennifer Walling&nbsp\;– “Environmental Policy.” Walling is executive director of the Illinois Environmental Council.\n\nThe&nbsp\;Whiteside&nbsp\;Forum\, established in 1985\, is a nonpartisan\, not-for-profit community group that sponsors presentations and discussions of issues of importance and interest to the public.\n
URL;VALUE=URI:http://zzz.augustana.edu/about-us/events/2017/climate-change-science-skepticism-and-sustainable-development
SUMMARY:Climate Change: Science\, Skepticism\, and Sustainable Development
DTSTART:20170422T000000Z
END:VEVENT
END:VCALENDAR
