BEGIN:VCALENDAR
VERSION:2.0
PRODID:-//hacksw/handcal//NONSGML v1.0//EN
CALSCALE:GREGORIAN
BEGIN:VEVENT
DTEND:20171019T003000Z
UID: 69e6636c1dc46
DTSTAMP:20260420T123332Z
LOCATION:Thorson-Lucken Field
DESCRIPTION:The Augustana Vikings take on Wheaton\n
URL;VALUE=URI:http://zzz.augustana.edu/about-us/events/2017/mens-soccer-vs-wheaton
SUMMARY:Men's Soccer vs. Wheaton 
DTSTART:20171019T003000Z
END:VEVENT
END:VCALENDAR
