BEGIN:VCALENDAR
VERSION:2.0
PRODID:-//hacksw/handcal//NONSGML v1.0//EN
CALSCALE:GREGORIAN
BEGIN:VEVENT
DTEND:20260426T230000Z
UID: 69e744168a015
DTSTAMP:20260421T043206Z
LOCATION:Bahls Campus Leadership Center
DESCRIPTION:The Augustana Handbell Choir and Vocal Jazz ensemble will perform.
URL;VALUE=URI:http://zzz.augustana.edu/about-us/events/2026/augustana-handbell-choir-and-vocal-jazz-concert
SUMMARY:Augustana Handbell Choir and Vocal Jazz concert
DTSTART:20260426T230000Z
END:VEVENT
END:VCALENDAR
