BEGIN:VCALENDAR
VERSION:2.0
PRODID:-//hacksw/handcal//NONSGML v1.0//EN
CALSCALE:GREGORIAN
BEGIN:VEVENT
DTEND:20260429T003000Z
UID: 69e730289768f
DTSTAMP:20260421T030704Z
LOCATION:Wallenberg Hall\, Denkmann Memorial Building
DESCRIPTION:The Augustana Flute and Clarinet choirs will perform.The Augustana Flute Choir\, under the direction of Dr. Sulina Baek\, will perform selections by Claude Debussy\, Johannes Brahms\, Katherine Hoover\, Gustav Holst and Ricky Lombardo.&nbsp\;The Augustana Clarinet Choir\, under the direction of Dr. Elizabeth Matera\, will perform selections by Gustav Holst\, William Schmidt and Julius Fučík. &nbsp\;An arrangement by Stephanie Skrabacz '27 of &nbsp\;"For Good" from Stephen Schwartz's Wicked&nbsp\;soundtrack will be performed.&nbsp\;
URL;VALUE=URI:http://zzz.augustana.edu/about-us/events/2026/augustana-flute-and-clarinet-choirs-concert
SUMMARY:Augustana Flute and Clarinet choirs concert
DTSTART:20260429T003000Z
END:VEVENT
END:VCALENDAR
