BEGIN:VCALENDAR
VERSION:2.0
PRODID:-//hacksw/handcal//NONSGML v1.0//EN
CALSCALE:GREGORIAN
BEGIN:VEVENT
DTEND:20260506T003000Z
UID: 69e756bb7fa98
DTSTAMP:20260421T055139Z
LOCATION:Wallenberg Hall\, Denkmann Memorial Building
DESCRIPTION:The Augustana Jazz Combos will perform\, directed by Dr. Joel Linscheid.
URL;VALUE=URI:http://zzz.augustana.edu/about-us/events/2026/augustana-jazz-combos-concert
SUMMARY:Augustana Jazz Combos concert
DTSTART:20260506T003000Z
END:VEVENT
END:VCALENDAR
