BEGIN:VCALENDAR
VERSION:2.0
PRODID:-//hacksw/handcal//NONSGML v1.0//EN
CALSCALE:GREGORIAN
BEGIN:VEVENT
DTEND:20260511T003000Z
UID: 69e75dd7d9d97
DTSTAMP:20260421T062159Z
LOCATION:Centennial Hall
DESCRIPTION:The Augustana Percussion Ensemble will perform\, directed by Dr. Tony Oliver.
URL;VALUE=URI:http://zzz.augustana.edu/about-us/events/2026/augustana-percussion-ensemble-concert-0
SUMMARY:Augustana Percussion Ensemble concert
DTSTART:20260511T003000Z
END:VEVENT
END:VCALENDAR
