BEGIN:VCALENDAR
VERSION:2.0
PRODID:-//hacksw/handcal//NONSGML v1.0//EN
CALSCALE:GREGORIAN
BEGIN:VEVENT
DTEND:20170430T220000Z
UID: 69e735ded6b30
DTSTAMP:20260421T033126Z
LOCATION:Bahls Campus Leadership Center
DESCRIPTION:Father Jeremy Freehill\, a Roman Catholic priest from the community\, will celebrate the Mass. Members of the community are invited to participate as lectors\, eucharistic ministers and musicians.\n\nThe Sacrament of Reconciliation is offered an hour before Mass. &nbsp\;\n
URL;VALUE=URI:https://zzz.augustana.edu/about-us/events/2017/catholic-mass-4
SUMMARY:Catholic Mass
DTSTART:20170430T220000Z
END:VEVENT
END:VCALENDAR
