BEGIN:VCALENDAR
VERSION:2.0
PRODID:-//hacksw/handcal//NONSGML v1.0//EN
CALSCALE:GREGORIAN
BEGIN:VEVENT
DTEND:20181010T150000Z
UID: 69e8b803d2cb2
DTSTAMP:20260422T065859Z
LOCATION:Olin Center for Educational Technology
DESCRIPTION:Andy Shearouse\, student employment coordinator\, will offer a workshop for faculty and staff who hire student workers. He will show the process of posting a job to Handshake and seeing the job applicants\, and will explain the Flexible Employment Program and how to post these positions.\n
URL;VALUE=URI:https://zzz.augustana.edu/about-us/events/2018/student-employment-workshop
SUMMARY:Student employment workshop
DTSTART:20181010T150000Z
END:VEVENT
END:VCALENDAR
