BEGIN:VCALENDAR
VERSION:2.0
PRODID:-//hacksw/handcal//NONSGML v1.0//EN
CALSCALE:GREGORIAN
BEGIN:VEVENT
DTEND:20230415T000000Z
UID: 69e6b287aecd3
DTSTAMP:20260420T181103Z
LOCATION:
DESCRIPTION:Augustana's Jenny Lind Vocal Ensemble\, under the direction of Dr. Michael Zemek\, will embark on a performance tour&nbsp\;in Missouri and Iowa.\n\nThe Jenny Lind Vocal Ensemble is a select treble ensemble for students who wish to develop advanced choral skills and a better understanding of various styles of choral music composed for sopranos and altos. The ensemble's chosen repertoire — from folk to contemporary\, ancient to modern — focuses on moving forward and upward\, overcoming challenges and celebrating compassion.&nbsp\;\n\nThe ensemble is named after Jenny Lind (1820-1887)\, a Swedish opera singer known as the "Swedish Nightingale" and considered the finest coloratura of her day\, and performs on campus and at community events.&nbsp\;\n\nProgram ("And I Can Sing"):\n\n"Jubilate Deo\," Levente Gyongyosi\n"Mantra\," Tim Takach\n"I Am the Wind\," Elaine Hagenberg\n"Lux Veritatis/Light of Truth\," Daniel J. Hall\n"Stardust\," B. E. Boykin\n"Ta na Solbici (And so we dance in Resia)\," Samo Vovk\n
URL;VALUE=URI:https://zzz.augustana.edu/about-us/events/2023/jenny-lind-vocal-ensemble-concert-kirkwood
SUMMARY:Jenny Lind Vocal Ensemble concert in Kirkwood
DTSTART:20230415T000000Z
END:VEVENT
END:VCALENDAR
