BEGIN:VCALENDAR
VERSION:2.0
PRODID:-//hacksw/handcal//NONSGML v1.0//EN
CALSCALE:GREGORIAN
BEGIN:VEVENT
DTEND:20230501T000000Z
UID: 69e6b1aacca26
DTSTAMP:20260420T180722Z
LOCATION:Olin Center for Educational Technology
DESCRIPTION:The Office of Sexual Assault Prevention Education will sponsor a Take Back the Night rally against sexual violence with keynote speaker Aubrey Barnes.\n
URL;VALUE=URI:https://zzz.augustana.edu/about-us/events/2023/take-back-night
SUMMARY:Take Back the Night
DTSTART:20230501T000000Z
END:VEVENT
END:VCALENDAR
