BEGIN:VCALENDAR
VERSION:2.0
PRODID:-//hacksw/handcal//NONSGML v1.0//EN
CALSCALE:GREGORIAN
BEGIN:VEVENT
DTEND:20231111T180000Z
UID: 69e6c87158a2c
DTSTAMP:20260420T194433Z
LOCATION:Lindberg Stadium 
DESCRIPTION:The Augustana Vikings will play football vs. North Central College in the last home game of the season.\n\nThe game will be live-streamed.\n\nComplete schedule\n
URL;VALUE=URI:https://zzz.augustana.edu/about-us/events/2023/football-vs-north-central-college
SUMMARY:Football vs. North Central College
DTSTART:20231111T180000Z
END:VEVENT
END:VCALENDAR
