BEGIN:VCALENDAR
VERSION:2.0
PRODID:-//hacksw/handcal//NONSGML v1.0//EN
CALSCALE:GREGORIAN
BEGIN:VEVENT
DTEND:20231104T193000Z
UID: 69e6c6f85b060
DTSTAMP:20260420T193816Z
LOCATION:Peter J. Lindberg\, M.D.\, Center for Health and Human Performance
DESCRIPTION:The Augustana Vikings men's water polo team will play Austin College.\n\nOther home games this season:\n\nNov. 5: 9:30 a.m. vs. Connecticut\n\nNov. 5: 2 p.m. vs. Penn State Behrend\n\n&nbsp\;\n
URL;VALUE=URI:https://zzz.augustana.edu/about-us/events/2023/mens-water-polo-vs-austin-college
SUMMARY:Men's water polo vs. Austin College
DTSTART:20231104T193000Z
END:VEVENT
END:VCALENDAR
