BEGIN:VCALENDAR
VERSION:2.0
PRODID:-//hacksw/handcal//NONSGML v1.0//EN
CALSCALE:GREGORIAN
BEGIN:VEVENT
DTEND:20231105T153000Z
UID: 69e6c784f0cfa
DTSTAMP:20260420T194036Z
LOCATION:Peter J. Lindberg\, M.D.\, Center for Health and Human Performance
DESCRIPTION:The Augustana Vikings men's water polo team will play Connecticut College.\n\nOther home games this season:\n\nNov. 5: 2 p.m. vs. Penn State Behrend\n\n&nbsp\;\n
URL;VALUE=URI:https://zzz.augustana.edu/about-us/events/2023/mens-water-polo-vs-connecticut-college
SUMMARY:Men's water polo vs. Connecticut College
DTSTART:20231105T153000Z
END:VEVENT
END:VCALENDAR
