BEGIN:VCALENDAR
VERSION:2.0
PRODID:-//hacksw/handcal//NONSGML v1.0//EN
CALSCALE:GREGORIAN
BEGIN:VEVENT
DTEND:20231105T200000Z
UID: 69e6c732bbd79
DTSTAMP:20260420T193914Z
LOCATION:Peter J. Lindberg\, M.D.\, Center for Health and Human Performance
DESCRIPTION:The Augustana Vikings men's water polo team will play the Penn State Behrend lions.\n\n&nbsp\;\n\n&nbsp\;\n
URL;VALUE=URI:https://zzz.augustana.edu/about-us/events/2023/mens-water-polo-vs-penn-state-behrend
SUMMARY:Men's water polo vs. Penn State Behrend
DTSTART:20231105T200000Z
END:VEVENT
END:VCALENDAR
