BEGIN:VCALENDAR
VERSION:2.0
PRODID:-//hacksw/handcal//NONSGML v1.0//EN
CALSCALE:GREGORIAN
BEGIN:VEVENT
DTEND:20230903T200000Z
UID: 69e6caf4558b7
DTSTAMP:20260420T195516Z
LOCATION:Thorson-Lucken Field
DESCRIPTION:The Augustana Vikings men's soccer team will play the Carleton College knights.\n\nOther home games this season:\n\nSept. 10: 4:30 p.m. vs. Central\n\nSept. 16: 12:00 p.m. vs. Fontbonne\n\nSept. 30: 3:30 p.m. vs. Carthage\n\nOct. 11: 7:00 p.m. vs. Elmhurst\n\nOct. 21: 3:30 p.m. vs. Carroll\n\nOct. 25: 7:00 p.m. vs. North Central\n\n&nbsp\;\n
URL;VALUE=URI:https://zzz.augustana.edu/about-us/events/2023/mens-soccer-vs-carleton-college
SUMMARY:Men's soccer vs. Carleton College
DTSTART:20230903T200000Z
END:VEVENT
END:VCALENDAR
