BEGIN:VCALENDAR
VERSION:2.0
PRODID:-//hacksw/handcal//NONSGML v1.0//EN
CALSCALE:GREGORIAN
BEGIN:VEVENT
DTEND:20230916T170000Z
UID: 69e6c6b546255
DTSTAMP:20260420T193709Z
LOCATION:Thorson-Lucken Field
DESCRIPTION:The Augustana Vikings men's soccer team will play Fontbonne University.\n\nOther home games this season:\n\nSept. 30: 3:30 p.m. vs. Carthage\n\nOct. 11: 7:00 p.m. vs. Elmhurst\n\nOct. 21: 3:30 p.m. vs. Carroll\n\nOct. 25: 7:00 p.m. vs. North Central\n\n&nbsp\;\n
URL;VALUE=URI:https://zzz.augustana.edu/about-us/events/2023/mens-soccer-vs-fontbonne-university
SUMMARY:Men's soccer vs. Fontbonne University
DTSTART:20230916T170000Z
END:VEVENT
END:VCALENDAR
