BEGIN:VCALENDAR
VERSION:2.0
PRODID:-//hacksw/handcal//NONSGML v1.0//EN
CALSCALE:GREGORIAN
BEGIN:VEVENT
DTEND:20241031T150000Z
UID: 69eb2c2ade08d
DTSTAMP:20260424T033906Z
LOCATION:The Gerber Center for Student Life
DESCRIPTION:
URL;VALUE=URI:https://zzz.augustana.edu/about-us/events/2024/trick-or-treat-gerber-center
SUMMARY:Trick-or-Treat at the Gerber Center
DTSTART:20241031T150000Z
END:VEVENT
END:VCALENDAR
