BEGIN:VCALENDAR
VERSION:2.0
PRODID:-//hacksw/handcal//NONSGML v1.0//EN
CALSCALE:GREGORIAN
BEGIN:VEVENT
DTEND:20260117T200000Z
UID: 69ea379ec62a3
DTSTAMP:20260423T101542Z
LOCATION:Bergendoff Hall of Fine Arts
DESCRIPTION:Lillian Slater\, a junior\, will perform a voice recital.
URL;VALUE=URI:https://zzz.augustana.edu/about-us/events/2026/student-recital-lillian-slater-voice
SUMMARY:Student recital: Lillian Slater\, voice
DTSTART:20260117T200000Z
END:VEVENT
END:VCALENDAR
