BEGIN:VCALENDAR
VERSION:2.0
PRODID:-//hacksw/handcal//NONSGML v1.0//EN
CALSCALE:GREGORIAN
BEGIN:VEVENT
DTEND:20260318T003000Z
UID: 69ea38416d982
DTSTAMP:20260423T101825Z
LOCATION:Wallenberg Hall\, Denkmann Memorial Building
DESCRIPTION:The Augustana Jazz Combos will perform\, directed by Dr. Joel Linscheid.
URL;VALUE=URI:https://zzz.augustana.edu/about-us/events/2026/augustana-jazz-combos-concert-0
SUMMARY:Augustana Jazz Combos concert
DTSTART:20260318T003000Z
END:VEVENT
END:VCALENDAR
