BEGIN:VCALENDAR
VERSION:2.0
PRODID:-//hacksw/handcal//NONSGML v1.0//EN
CALSCALE:GREGORIAN
BEGIN:VEVENT
DTEND:20260423T150000Z
UID: 69e52b8090743
DTSTAMP:20260419T142240Z
LOCATION:Ken Anderson Academic All-American Club
DESCRIPTION:Augie Athletics is partnering with Impact Life to host a blood drive from 10 a.m.-3 p.m. at the Ken Anderson Academic All-American Club. To make an appointment\, see a staff member or see bloodcenter.org.
URL;VALUE=URI:https://zzz.augustana.edu/about-us/events/2026/leaders-life-blood-drive
SUMMARY:Leaders for Life Blood Drive
DTSTART:20260423T150000Z
END:VEVENT
END:VCALENDAR
