BEGIN:VCALENDAR
VERSION:2.0
PRODID:-//hacksw/handcal//NONSGML v1.0//EN
CALSCALE:GREGORIAN
BEGIN:VEVENT
DTEND:20260422T003000Z
UID: 69e52b808de85
DTSTAMP:20260419T142240Z
LOCATION:Wallenberg Hall\, Denkmann Memorial Building
DESCRIPTION:The Augustana Low Brass Ensemble\, directed by Xiaoyu Liu\, will perform.PROGRAMWater Music Suite No. 1&nbsp\; &nbsp\; &nbsp\;George Frederic Handel (1685 -1759)In Memoriam&nbsp\; &nbsp\; &nbsp\;Raymond Premru (1934-1998)When I Fall In Love &nbsp\;A Tip ‘O The Hat To Nat&nbsp\; &nbsp\; &nbsp\;Ed Heyman &amp\; Victor Young (b. unknown)&nbsp\;&nbsp\; &nbsp\; &nbsp\;Arr: Sim FloraFly me to the Moon&nbsp\; &nbsp\; &nbsp\;Bart Howard (1933-2022)&nbsp\;&nbsp\; &nbsp\; &nbsp\;Arr: Robert HughesBruckner Etude für das tiefe blech &nbsp\;(Bruckner Etude for the deep metal sheet)&nbsp\; &nbsp\; &nbsp\;Enrique Crespo (1941-2020)Tannhauser Overture&nbsp\; &nbsp\; &nbsp\;Richard Wagner (1818-1883)&nbsp\;&nbsp\; &nbsp\; &nbsp\;Arr: &nbsp\;Randall Gary MalmstromEuphoniumSantino Bedolla '29Gabriella Davies '27Alyssa Torchia '29TromboneAlex Sell '26Adi Walker '26TubaJefferson Dietrich '28Kevin Flannery '28&nbsp\;&nbsp\;&nbsp\;&nbsp\;&nbsp\;&nbsp\;&nbsp\;
URL;VALUE=URI:https://zzz.augustana.edu/about-us/events/2026/augustana-low-brass-ensemble-concert
SUMMARY:Augustana Low Brass Ensemble concert
DTSTART:20260422T003000Z
END:VEVENT
END:VCALENDAR
