BEGIN:VCALENDAR
VERSION:2.0
PRODID:-//hacksw/handcal//NONSGML v1.0//EN
CALSCALE:GREGORIAN
BEGIN:VEVENT
DTEND:20260423T200000Z
UID: 69ea316680e5d
DTSTAMP:20260423T094910Z
LOCATION:Olin Center for Educational Technology
DESCRIPTION:The campus community is invited to a review of the results of the Higher Education Data Sharing Consortium Sense of Community Survey that was conducted last fall.These presentations are designed to show how respondents perceive the campus community and to generate meaningful conversation regarding the feedback that was received. &nbsp\;
URL;VALUE=URI:https://zzz.augustana.edu/about-us/events/2026/community-survey-review
SUMMARY:Community Survey review
DTSTART:20260423T200000Z
END:VEVENT
END:VCALENDAR
