BEGIN:VCALENDAR
VERSION:2.0
PRODID:-//hacksw/handcal//NONSGML v1.0//EN
CALSCALE:GREGORIAN
BEGIN:VEVENT
DTEND:20260512T213000Z
UID: 69ea2016d457a
DTSTAMP:20260423T083518Z
LOCATION:Old Main 
DESCRIPTION:The Women\, Gender\, and Sexuality Studies program will celebrate its 40th anniversary and the official launch of its new gallery-lounge space. All are welcome to join for refreshments\, camaraderie and coalition-building.An open house begins at 4:30 and there will be special remarks at 5 p.m.
URL;VALUE=URI:https://zzz.augustana.edu/about-us/events/2026/women-gender-and-sexuality-studies-40th-anniversary-celebration
SUMMARY:Women\, Gender\, and Sexuality Studies 40th anniversary celebration
DTSTART:20260512T213000Z
END:VEVENT
END:VCALENDAR
